BEGIN:VCALENDAR
VERSION:2.0
PRODID:-//City Deal Impact Ondernemen - ECPv6.15.20//NONSGML v1.0//EN
CALSCALE:GREGORIAN
METHOD:PUBLISH
X-WR-CALNAME:City Deal Impact Ondernemen
X-ORIGINAL-URL:https://citydealimpactondernemen.nl
X-WR-CALDESC:Evenementen voor City Deal Impact Ondernemen
REFRESH-INTERVAL;VALUE=DURATION:PT1H
X-Robots-Tag:noindex
X-PUBLISHED-TTL:PT1H
BEGIN:VTIMEZONE
TZID:Europe/Amsterdam
BEGIN:DAYLIGHT
TZOFFSETFROM:+0100
TZOFFSETTO:+0200
TZNAME:CEST
DTSTART:20220327T010000
END:DAYLIGHT
BEGIN:STANDARD
TZOFFSETFROM:+0200
TZOFFSETTO:+0100
TZNAME:CET
DTSTART:20221030T010000
END:STANDARD
BEGIN:DAYLIGHT
TZOFFSETFROM:+0100
TZOFFSETTO:+0200
TZNAME:CEST
DTSTART:20230326T010000
END:DAYLIGHT
BEGIN:STANDARD
TZOFFSETFROM:+0200
TZOFFSETTO:+0100
TZNAME:CET
DTSTART:20231029T010000
END:STANDARD
BEGIN:DAYLIGHT
TZOFFSETFROM:+0100
TZOFFSETTO:+0200
TZNAME:CEST
DTSTART:20240331T010000
END:DAYLIGHT
BEGIN:STANDARD
TZOFFSETFROM:+0200
TZOFFSETTO:+0100
TZNAME:CET
DTSTART:20241027T010000
END:STANDARD
END:VTIMEZONE
BEGIN:VEVENT
DTSTART;TZID=Europe/Amsterdam:20230502T090000
DTEND;TZID=Europe/Amsterdam:20230502T170000
DTSTAMP:20260420T115752
CREATED:20230413T142138Z
LAST-MODIFIED:20230413T142220Z
UID:1208-1683018000-1683046800@citydealimpactondernemen.nl
SUMMARY:Impact030 impuls #3: intake
DESCRIPTION:Ben jij een groeiende impact ondernemer (in wording) of wil je als bedrijf simpelweg meer impact maken in de regio Utrecht? Dan is deze impuls interessant voor jou! \nAls (impact)ondernemer maak je ontwikkelingen door. Impact030 is er om impactondernemers te bij te staan bij moeilijke vraagstukken. Sommige vraagstukken zijn praktisch van aard\, maar anderen zijn complex en gaan over het vergroten van je impact\, financiële groei of bedrijfsvoering. Met name tussen verschillende ontwikkelfases (concept\, start-up\, grow up\, scale up) zijn er veel belangrijke keuzes te maken. Je kan hierbij kiezen om deel te nemen aan eenimpact030 impuls. \nWe begeleiden je gedurende +- 2 maanden langs 4 fases om zo de beste ondersteuning te bieden én te vinden voor jouw groeivraag. Impact030 stelt het hele netwerk tot jouw beschikking! Jij als ondernemer staat centraal\, en je bepaalt zelf hoe je het netwerk inzet voor jouw groeivraag. \nLocatie: Hybride – in Utrecht. \nMeer informatie: https://www.impact030.nl/event/impact030-impuls-6-intake/
URL:https://citydealimpactondernemen.nl/event/impact030-impuls-3-intake/
ATTACH;FMTTYPE=image/png:https://citydealimpactondernemen.nl/wp-content/uploads/2023/04/Untitled-design.png
END:VEVENT
END:VCALENDAR