BEGIN:VCALENDAR
VERSION:2.0
PRODID:-//City Deal Impact Ondernemen - ECPv6.15.20//NONSGML v1.0//EN
CALSCALE:GREGORIAN
METHOD:PUBLISH
X-ORIGINAL-URL:https://citydealimpactondernemen.nl
X-WR-CALDESC:Evenementen voor City Deal Impact Ondernemen
REFRESH-INTERVAL;VALUE=DURATION:PT1H
X-Robots-Tag:noindex
X-PUBLISHED-TTL:PT1H
BEGIN:VTIMEZONE
TZID:Europe/Amsterdam
BEGIN:DAYLIGHT
TZOFFSETFROM:+0100
TZOFFSETTO:+0200
TZNAME:CEST
DTSTART:20220327T010000
END:DAYLIGHT
BEGIN:STANDARD
TZOFFSETFROM:+0200
TZOFFSETTO:+0100
TZNAME:CET
DTSTART:20221030T010000
END:STANDARD
BEGIN:DAYLIGHT
TZOFFSETFROM:+0100
TZOFFSETTO:+0200
TZNAME:CEST
DTSTART:20230326T010000
END:DAYLIGHT
BEGIN:STANDARD
TZOFFSETFROM:+0200
TZOFFSETTO:+0100
TZNAME:CET
DTSTART:20231029T010000
END:STANDARD
BEGIN:DAYLIGHT
TZOFFSETFROM:+0100
TZOFFSETTO:+0200
TZNAME:CEST
DTSTART:20240331T010000
END:DAYLIGHT
BEGIN:STANDARD
TZOFFSETFROM:+0200
TZOFFSETTO:+0100
TZNAME:CET
DTSTART:20241027T010000
END:STANDARD
END:VTIMEZONE
BEGIN:VEVENT
DTSTART;TZID=Europe/Amsterdam:20230515T080000
DTEND;TZID=Europe/Amsterdam:20230515T170000
DTSTAMP:20260420T120047
CREATED:20230515T142455Z
LAST-MODIFIED:20230515T142721Z
UID:1298-1684137600-1684170000@citydealimpactondernemen.nl
SUMMARY:Samenwerken voor een inclusieve arbeidsmarkt
DESCRIPTION:Samenwerken voor een inclusieve arbeidsmarkt\nOp 29 juni 2023 presenteert het lectoraat Organiseren van Waardig Werk het congres ‘Samenwerken voor een inclusieve arbeidsmarkt’. Dit congres is het eindevenement van het praktijkgericht onderzoek ‘Meer impact door samenwerking’ (2021-2023). Ondernemingen werkten samen met als doel om zowel economische als maatschappelijke meerwaarde te creëren voor kwetsbare groepen op de arbeidsmarkt. Onderzoekers onderzochten hoe. Tijdens dit congres delen de ondernemers en onderzoekers inzichten uit het praktijkgericht onderzoek. \nDit congres vormt de afsluiting van het tweejarig praktijkgericht onderzoek “Meer impact door samenwerking”\, gerealiseerd met subsidie van SIA-RAAK\, en wordt aangeboden door Hogeschool Utrecht en Hogeschool Windesheim\, in samenwerking met zestien deelnemende ondernemingen die actief zijn op het gebied van arbeidsparticipatie voor kwetsbare groepen. \nMeer informatie vind je hier. \nMeld hier of je uitgenodigd wil worden.
URL:https://citydealimpactondernemen.nl/event/samenwerken-voor-een-inclusieve-arbeidsmarkt/
LOCATION:Kanaal 30\, Kanaalweg 30 te Utrecht.
ATTACH;FMTTYPE=image/webp:https://citydealimpactondernemen.nl/wp-content/uploads/2023/05/https-www.hu_.nl-media-hu-afbeeldingen-onderzoek-projecten-hrm.ashx_.webp
END:VEVENT
BEGIN:VEVENT
DTSTART;TZID=Europe/Amsterdam:20230515T150000
DTEND;TZID=Europe/Amsterdam:20230515T170000
DTSTAMP:20260420T120047
CREATED:20230501T131614Z
LAST-MODIFIED:20230501T131614Z
UID:1265-1684162800-1684170000@citydealimpactondernemen.nl
SUMMARY:Creating ImpactFest 2023
DESCRIPTION:15 mei organiseert Impact City een avond voor de co-creatie van het programma van het Impact Fest. Hierbij kan input worden geleverd voor de sessies rondom de thema’s Energy & Water\, Food & Agriculture\, Circular economy & resources & Climate Justice. Ook is het mogelijk om aan te geven dat je een sessie wilt (co-)hosten. Voor meer informatie zie: https://www.impactcity.nl/en/events/creating-impactfest-2023/
URL:https://citydealimpactondernemen.nl/event/creating-impactfest-2023/
LOCATION:Apollo 14 Saturnusstraat 14\, 2516 AH Den Haag
ATTACH;FMTTYPE=image/webp:https://citydealimpactondernemen.nl/wp-content/uploads/2023/05/Creating_impactfest_INSTA_-_SAVE_THE_DATE-1022x1024-1.png.webp
END:VEVENT
END:VCALENDAR