BEGIN:VCALENDAR
VERSION:2.0
PRODID:-//City Deal Impact Ondernemen - ECPv6.15.20//NONSGML v1.0//EN
CALSCALE:GREGORIAN
METHOD:PUBLISH
X-WR-CALNAME:City Deal Impact Ondernemen
X-ORIGINAL-URL:https://citydealimpactondernemen.nl
X-WR-CALDESC:Evenementen voor City Deal Impact Ondernemen
REFRESH-INTERVAL;VALUE=DURATION:PT1H
X-Robots-Tag:noindex
X-PUBLISHED-TTL:PT1H
BEGIN:VTIMEZONE
TZID:Europe/Amsterdam
BEGIN:DAYLIGHT
TZOFFSETFROM:+0100
TZOFFSETTO:+0200
TZNAME:CEST
DTSTART:20220327T010000
END:DAYLIGHT
BEGIN:STANDARD
TZOFFSETFROM:+0200
TZOFFSETTO:+0100
TZNAME:CET
DTSTART:20221030T010000
END:STANDARD
BEGIN:DAYLIGHT
TZOFFSETFROM:+0100
TZOFFSETTO:+0200
TZNAME:CEST
DTSTART:20230326T010000
END:DAYLIGHT
BEGIN:STANDARD
TZOFFSETFROM:+0200
TZOFFSETTO:+0100
TZNAME:CET
DTSTART:20231029T010000
END:STANDARD
BEGIN:DAYLIGHT
TZOFFSETFROM:+0100
TZOFFSETTO:+0200
TZNAME:CEST
DTSTART:20240331T010000
END:DAYLIGHT
BEGIN:STANDARD
TZOFFSETFROM:+0200
TZOFFSETTO:+0100
TZNAME:CET
DTSTART:20241027T010000
END:STANDARD
END:VTIMEZONE
BEGIN:VEVENT
DTSTART;TZID=Europe/Amsterdam:20230517T090000
DTEND;TZID=Europe/Amsterdam:20230517T130000
DTSTAMP:20260420T115730
CREATED:20230413T085031Z
LAST-MODIFIED:20230510T135915Z
UID:1178-1684314000-1684328400@citydealimpactondernemen.nl
SUMMARY:Route 2030 | Brede welvaart met de SDG’s
DESCRIPTION:Route 2030 | Brede welvaart met de SDG’s\n\n\n\n\n\n\n\n\n\nOp Verantwoordingsdag organiseert SDG Nederland de bijeenkomst Route 2030 | Brede welvaart met de SDG’s. Met o.a. Kim Putters\, André Weimar en presentator Harm Edens. De toegang is gratis\, maar het aantal plaatsen beperkt. Meld je dus snel aan via deze link. \nTijdens dit jaarlijkse evenement op 17 mei worden in Den Haag twee rapporten over de Sustainable Development Goals (SDG’s) gepresenteerd: de Nationale SDG Rapportage ‘Nederland Ontwikkelt Duurzaam’ van de overheid en partners\, én de Monitor Brede Welvaart & SDG’s van het CBS. Vervolgens wordt er gesproken over deze rapporten en diverse inhoudelijke thema’s als brede welvaart\, duurzame inkoop en sociale kansenongelijkheid met beleidsmakers\, duurzame koplopers en publiek. \nRoute 2030 wordt georganiseerd in de Raadszaal van de Sociaal-Economische Raad (Bezuidenhoutseweg 60\, Den Haag) en duurt van 09.00 tot 13.00 uur. Aansluitend is er een vegetarische netwerklunch. Bekijk het hele programma hier.
URL:https://citydealimpactondernemen.nl/event/route-2030-brede-welvaart-met-de-sdgs/
LOCATION:Raadszaal van de Sociaal-Economische Raad (Bezuidenhoutseweg 60\, Den Haag)
ATTACH;FMTTYPE=image/jpeg:https://citydealimpactondernemen.nl/wp-content/uploads/2023/04/route2030-1280x487-1.jpg
END:VEVENT
END:VCALENDAR