BEGIN:VCALENDAR
VERSION:2.0
PRODID:-//City Deal Impact Ondernemen - ECPv6.15.20//NONSGML v1.0//EN
CALSCALE:GREGORIAN
METHOD:PUBLISH
X-WR-CALNAME:City Deal Impact Ondernemen
X-ORIGINAL-URL:https://citydealimpactondernemen.nl
X-WR-CALDESC:Evenementen voor City Deal Impact Ondernemen
REFRESH-INTERVAL;VALUE=DURATION:PT1H
X-Robots-Tag:noindex
X-PUBLISHED-TTL:PT1H
BEGIN:VTIMEZONE
TZID:Europe/Amsterdam
BEGIN:DAYLIGHT
TZOFFSETFROM:+0100
TZOFFSETTO:+0200
TZNAME:CEST
DTSTART:20220327T010000
END:DAYLIGHT
BEGIN:STANDARD
TZOFFSETFROM:+0200
TZOFFSETTO:+0100
TZNAME:CET
DTSTART:20221030T010000
END:STANDARD
BEGIN:DAYLIGHT
TZOFFSETFROM:+0100
TZOFFSETTO:+0200
TZNAME:CEST
DTSTART:20230326T010000
END:DAYLIGHT
BEGIN:STANDARD
TZOFFSETFROM:+0200
TZOFFSETTO:+0100
TZNAME:CET
DTSTART:20231029T010000
END:STANDARD
BEGIN:DAYLIGHT
TZOFFSETFROM:+0100
TZOFFSETTO:+0200
TZNAME:CEST
DTSTART:20240331T010000
END:DAYLIGHT
BEGIN:STANDARD
TZOFFSETFROM:+0200
TZOFFSETTO:+0100
TZNAME:CET
DTSTART:20241027T010000
END:STANDARD
END:VTIMEZONE
BEGIN:VEVENT
DTSTART;TZID=Europe/Amsterdam:20230622T141500
DTEND;TZID=Europe/Amsterdam:20230622T193000
DTSTAMP:20260420T105637
CREATED:20230530T131949Z
LAST-MODIFIED:20230530T132007Z
UID:1347-1687443300-1687462200@citydealimpactondernemen.nl
SUMMARY:Van potjes naar permanent: hoe kunnen we bewonersbedrijven duurzaam financieren?
DESCRIPTION:Van potjes naar permanent: hoe kunnen we bewonersbedrijven duurzaam financieren? Bijeenkomst voor beleidsmakers op 22 juni! 🗓️ \nBewonersbedrijven en gemeenten vinden elkaar steeds meer als partners in het aanpakken van maatschappelijke vraagstukken. Gemeenten zien de kracht van bewonersbedrijven\, waarderen de hands-on mentaliteit en zijn enthousiast over de doelgerichte aanpak. \nTegelijk staan gemeenten voor de uitdaging hoe ze dit initiatief op een duurzame manier financieel kunnen ondersteunen. En bewonersbedrijven voelen dat ze nog te veel moeten ‘sprokkelen’ in subsidielandschap. Beide partijen willen een stap voorwaarts: de tijdelijkheid van subsidiepotjes achter zich laten en zoeken naar meer structurele vormen van financiering van de maatschappelijke impact die bewonersbedrijven maken. \nOp 22 juni organiseren LSA bewoners en Social Enterprise NL in Leeuwarden een bijeenkomst waarbij duurzame financiering centraal staat. Ze verzamelen een drietal best practices uit stad en dorp. Drie verschillende manieren waarop gewerkt wordt aan financiële ondersteuning vanuit de gemeente aan het initiatief. Na elke bijdrage wordt een open gesprek gevoerd. Wat zijn factoren die een bepaalde aanpak laten werken en zijn ze repliceerbaar naar een andere gemeenten? \nLSA bewoners en Social Enterprise NL  moedigen ambtenaren aan om samen naar de bijeenkomst te komen met initiatiefnemers waar mee samengewerkt wordt. Kijk hier voor meer informatie en aanmelden: https://lnkd.in/e_VYfASX
URL:https://citydealimpactondernemen.nl/event/1347/
LOCATION:Wijkcentrum Bilgaard\, De Hooidollen 17\, 8918 HV Leeuwarden
ATTACH;FMTTYPE=image/jpeg:https://citydealimpactondernemen.nl/wp-content/uploads/2023/05/1684765581914.jpeg
END:VEVENT
END:VCALENDAR