BEGIN:VCALENDAR
VERSION:2.0
PRODID:-//City Deal Impact Ondernemen - ECPv6.15.20//NONSGML v1.0//EN
CALSCALE:GREGORIAN
METHOD:PUBLISH
X-ORIGINAL-URL:https://citydealimpactondernemen.nl
X-WR-CALDESC:Evenementen voor City Deal Impact Ondernemen
REFRESH-INTERVAL;VALUE=DURATION:PT1H
X-Robots-Tag:noindex
X-PUBLISHED-TTL:PT1H
BEGIN:VTIMEZONE
TZID:Europe/Amsterdam
BEGIN:DAYLIGHT
TZOFFSETFROM:+0100
TZOFFSETTO:+0200
TZNAME:CEST
DTSTART:20220327T010000
END:DAYLIGHT
BEGIN:STANDARD
TZOFFSETFROM:+0200
TZOFFSETTO:+0100
TZNAME:CET
DTSTART:20221030T010000
END:STANDARD
BEGIN:DAYLIGHT
TZOFFSETFROM:+0100
TZOFFSETTO:+0200
TZNAME:CEST
DTSTART:20230326T010000
END:DAYLIGHT
BEGIN:STANDARD
TZOFFSETFROM:+0200
TZOFFSETTO:+0100
TZNAME:CET
DTSTART:20231029T010000
END:STANDARD
BEGIN:DAYLIGHT
TZOFFSETFROM:+0100
TZOFFSETTO:+0200
TZNAME:CEST
DTSTART:20240331T010000
END:DAYLIGHT
BEGIN:STANDARD
TZOFFSETFROM:+0200
TZOFFSETTO:+0100
TZNAME:CET
DTSTART:20241027T010000
END:STANDARD
END:VTIMEZONE
BEGIN:VEVENT
DTSTART;TZID=Europe/Amsterdam:20230926T123000
DTEND;TZID=Europe/Amsterdam:20230926T180000
DTSTAMP:20260420T034935
CREATED:20230828T121402Z
LAST-MODIFIED:20230828T121402Z
UID:1456-1695731400-1695751200@citydealimpactondernemen.nl
SUMMARY:SDG Action Day
DESCRIPTION:Na het grote succes van vorig jaar\, verandert SDG Nederland de SDG Action Days in SDG Action Week. Een week lang vinden er in heel het land diverse activiteiten rondom de SDG’s plaats. De SDG Action Week is hét Nederlandse evenement over de Sustainable Development Goals. Mis het niet en blok dinsdag 19 t/m woensdag 27 september 2023 vast in je agenda! \nVerandering begint met actie. Daarom is het thema voor de SDG Action Week dit jaar Act Together Now. Tijdens het grootste SDG-evenement van Nederland – van 19 tot 27 september – komt SDG Nederland in actie om de wereld mooier te maken. En daar hkebben ze iedereen bij nodig. Begin klein en maak het groot. Of begin meteen groot. Hoe dan ook: blijf in actie komen en maak de wereld een stukje mooier. \nLaat je inspireren en kom in actie tijdens het SDG-hoofdevenement op dinsdag 26 september in het KIT in Amsterdam! \nEntree/registratie: 12:15 uur \nAanvang programma: 13:00 uur \nAfsluiting programma/netwerkborrel: 18:00 uur \nEinde event: 19:15 uur \nSprekers tijdens dit event zijn Marjolein Moorman (wethouder onderwijs\, jeugd(zorg) en armoedebestrijding gemeente Amsterdam)\, Paul Schenderling (econoom / post-groei)\, Monique Lempers (Fairphone)\, Burgemeester Marcouch (Arnhem) en Babette Porcelijn (auteur van o.a. “Think Big Act Now”). Moderator: Nizar El Manouzi. \nKijk hier voor meer informatie. \nKlik hier voor het programma overzicht (onder voorbehoud van wijzigingen)
URL:https://citydealimpactondernemen.nl/event/sdg-action-day/
LOCATION:KIT. Mauritskade 63\, 1092 AD Amsterdam
ATTACH;FMTTYPE=image/png:https://citydealimpactondernemen.nl/wp-content/uploads/2023/08/SDG-Charter-menu.png
END:VEVENT
END:VCALENDAR