BEGIN:VCALENDAR
VERSION:2.0
PRODID:-//City Deal Impact Ondernemen - ECPv6.15.20//NONSGML v1.0//EN
CALSCALE:GREGORIAN
METHOD:PUBLISH
X-ORIGINAL-URL:https://citydealimpactondernemen.nl
X-WR-CALDESC:Evenementen voor City Deal Impact Ondernemen
REFRESH-INTERVAL;VALUE=DURATION:PT1H
X-Robots-Tag:noindex
X-PUBLISHED-TTL:PT1H
BEGIN:VTIMEZONE
TZID:Europe/Amsterdam
BEGIN:DAYLIGHT
TZOFFSETFROM:+0100
TZOFFSETTO:+0200
TZNAME:CEST
DTSTART:20220327T010000
END:DAYLIGHT
BEGIN:STANDARD
TZOFFSETFROM:+0200
TZOFFSETTO:+0100
TZNAME:CET
DTSTART:20221030T010000
END:STANDARD
BEGIN:DAYLIGHT
TZOFFSETFROM:+0100
TZOFFSETTO:+0200
TZNAME:CEST
DTSTART:20230326T010000
END:DAYLIGHT
BEGIN:STANDARD
TZOFFSETFROM:+0200
TZOFFSETTO:+0100
TZNAME:CET
DTSTART:20231029T010000
END:STANDARD
BEGIN:DAYLIGHT
TZOFFSETFROM:+0100
TZOFFSETTO:+0200
TZNAME:CEST
DTSTART:20240331T010000
END:DAYLIGHT
BEGIN:STANDARD
TZOFFSETFROM:+0200
TZOFFSETTO:+0100
TZNAME:CET
DTSTART:20241027T010000
END:STANDARD
END:VTIMEZONE
BEGIN:VEVENT
DTSTART;VALUE=DATE:20231002
DTEND;VALUE=DATE:20231007
DTSTAMP:20260420T034936
CREATED:20230914T130216Z
LAST-MODIFIED:20230918T085602Z
UID:1468-1696204800-1696636799@citydealimpactondernemen.nl
SUMMARY:Week van de MVOI
DESCRIPTION:De Week van MVOI 2023\n2 oktober 2023 – 6 oktober 2023 | Bron: PIANOo\n\nGrote transities door kleine stappen. Daar draait het om tijdens de Week van Maatschappelijk Verantwoord Opdrachtgeven en Inkopen (MVOI) van PIANOo. Samen realiseren we een schone leefomgeving en een duurzame (en eerlijke) samenleving. MVOI kost veel daadkracht en tijd. PIANOo helpt graag en organiseert daarom van 2-6 oktober 2023 dagelijks evenementen rondom MVOI. Verspil geen tijd en maak stappen door concreet aan de slag te gaan met de vele aspecten en dimensies van MVOI. \n\n\n\nVoor wie?\nIn deze week gaan verschillende doelgroepen met uiteenlopende aspecten van MVOI aan de slag. PIANOo organiseert evenementen voor bestuurders\, beleidsmedewerkers\, inkopers\, adviseurs\, interne opdrachtgevers\, contractmanagers en ga zo maar door. Het aanbod is breed. Meld je aan voor de evenementen die aansluiten bij de stappen die jouw organisatie maakt rondom MVOI. \nProgramma\nIn de week van 2-6 oktober 2023 organiseert PIANOo dagelijks evenementen rondom MVOI. \nKlik in het onderstaande programma op een sessie naar keuze en schrijf jezelf in. \nLet op: Voor ieder event moet je jezelf apart inschrijven en voor een aantal sessies is de capaciteit beperkt. Wees er dus snel bij! \nKom je ook naar de Kick-off van de Week van MVOI op 2 oktober? In een tijdsbestek van 1 uur praten we je bij over de laatste trends op het gebied van MVOI. \nMaandag 2 oktober\n\nOchtend – Kick-off van #DeWeekVanMVOI: de laatste trends rondom MVOI (online\, openbaar)\nOchtend –Kennissessie: Zicht op Sociale Impact met projectleider van de City Deal Edwin Teljeur (online\, openbaar)\nMiddag – Kennissessie: MVI monitoren doe je zo! (online\, openbaar)\n\nDinsdag 3 oktober\n\nOchtend – Diversity Day: Diversiteit & Inclusie in aanbestedingen (online\, openbaar)\nOchtend – Training: Direct aan de Slag met Circulair Inkopen (online\, openbaar)\nMiddag – Community of Practice Contractmanagement Circulair – rolverdelingen (online\, alleen voor CoP leden)\n\nWoensdag 4 oktober\n\nHele dag – Denk Doe Duurzaam in Actie: Duurzaam doen! (op locatie voor rijksambtenaren)\n\nDonderdag 5 oktober\n\nOchtend – Community event MVOI Manifestpartijen (op locatie\, voor manifestpartijen)\nMiddag – Inspiratiemiddag MVOI: van wetenschap naar praktijk! (op locatie\, openbaar)\n\nVrijdag 6 oktober\n\nOchtend – Kennissessie: MVOI-thema’s combineren in aanbestedingen (online\, openbaar)
URL:https://citydealimpactondernemen.nl/event/week-van-de-mvoi/
END:VEVENT
END:VCALENDAR