BEGIN:VCALENDAR
VERSION:2.0
PRODID:-//City Deal Impact Ondernemen - ECPv6.15.20//NONSGML v1.0//EN
CALSCALE:GREGORIAN
METHOD:PUBLISH
X-WR-CALNAME:City Deal Impact Ondernemen
X-ORIGINAL-URL:https://citydealimpactondernemen.nl
X-WR-CALDESC:Evenementen voor City Deal Impact Ondernemen
REFRESH-INTERVAL;VALUE=DURATION:PT1H
X-Robots-Tag:noindex
X-PUBLISHED-TTL:PT1H
BEGIN:VTIMEZONE
TZID:Europe/Amsterdam
BEGIN:DAYLIGHT
TZOFFSETFROM:+0100
TZOFFSETTO:+0200
TZNAME:CEST
DTSTART:20220327T010000
END:DAYLIGHT
BEGIN:STANDARD
TZOFFSETFROM:+0200
TZOFFSETTO:+0100
TZNAME:CET
DTSTART:20221030T010000
END:STANDARD
BEGIN:DAYLIGHT
TZOFFSETFROM:+0100
TZOFFSETTO:+0200
TZNAME:CEST
DTSTART:20230326T010000
END:DAYLIGHT
BEGIN:STANDARD
TZOFFSETFROM:+0200
TZOFFSETTO:+0100
TZNAME:CET
DTSTART:20231029T010000
END:STANDARD
BEGIN:DAYLIGHT
TZOFFSETFROM:+0100
TZOFFSETTO:+0200
TZNAME:CEST
DTSTART:20240331T010000
END:DAYLIGHT
BEGIN:STANDARD
TZOFFSETFROM:+0200
TZOFFSETTO:+0100
TZNAME:CET
DTSTART:20241027T010000
END:STANDARD
END:VTIMEZONE
BEGIN:VEVENT
DTSTART;TZID=Europe/Amsterdam:20231010T090000
DTEND;TZID=Europe/Amsterdam:20231010T163000
DTSTAMP:20260420T034931
CREATED:20230731T144431Z
LAST-MODIFIED:20230731T144431Z
UID:1443-1696928400-1696955400@citydealimpactondernemen.nl
SUMMARY:SEWF23 Fringe Day | Research and Education Conference
DESCRIPTION:Social entrepreneurship (SE) plays an important role in tackling the grand challenges of our time\, ranging from ecological issues like climate change to social ones such as inequality. Yet for SE to fulfill its full potential in solving societal problems\, a number of questions urgently need to be addressed. How can research help the SE ecosystem to develop and flourish? And what types and kinds of education can inspire (young) people to take up these challenges through SE? \nThe Social Enterprise World Forum (SEWF) annually brings together the SE ecosystem from around the globe. In October 2023\, this event will be hosted in Amsterdam\, the Netherlands. On the day before the flagship event\, the Research and Education Conference addresses these questions. SE educators\, researchers and practitioners are invited to submit proposals for sessions at this event. \nThe SEWF 2023 main theme is ‘Collective Action. Sustainable Change’. The Research and Education Conference follows this theme\, but particularly focuses on research and education. \nThe full-day event will include opening and closing plenary sessions with keynote speakers; but consists mostly of sessions as proposed by participants and approved by the Academic Committee. This will include research and education lines: \n\nResearch: these sessions focus on practice-oriented research. This fits well with the main SEWF event\, which focuses on practitioners.\nEducation: these sessions focus on exchange on / of educational practices related to SE.\n\nKlik hier voor meer info.
URL:https://citydealimpactondernemen.nl/event/sewf23-fringe-day-research-and-education-conference/
LOCATION:Business Campus | AUAS Fraijlemaborg 133 | 1102 CV Amsterdam   | Netherlands
ATTACH;FMTTYPE=image/png:https://citydealimpactondernemen.nl/wp-content/uploads/2023/07/Schermafbeelding-2023-07-31-om-16.42.45.png
END:VEVENT
END:VCALENDAR