BEGIN:VCALENDAR
VERSION:2.0
PRODID:-//City Deal Impact Ondernemen - ECPv6.15.20//NONSGML v1.0//EN
CALSCALE:GREGORIAN
METHOD:PUBLISH
X-ORIGINAL-URL:https://citydealimpactondernemen.nl
X-WR-CALDESC:Evenementen voor City Deal Impact Ondernemen
REFRESH-INTERVAL;VALUE=DURATION:PT1H
X-Robots-Tag:noindex
X-PUBLISHED-TTL:PT1H
BEGIN:VTIMEZONE
TZID:Europe/Amsterdam
BEGIN:DAYLIGHT
TZOFFSETFROM:+0100
TZOFFSETTO:+0200
TZNAME:CEST
DTSTART:20220327T010000
END:DAYLIGHT
BEGIN:STANDARD
TZOFFSETFROM:+0200
TZOFFSETTO:+0100
TZNAME:CET
DTSTART:20221030T010000
END:STANDARD
BEGIN:DAYLIGHT
TZOFFSETFROM:+0100
TZOFFSETTO:+0200
TZNAME:CEST
DTSTART:20230326T010000
END:DAYLIGHT
BEGIN:STANDARD
TZOFFSETFROM:+0200
TZOFFSETTO:+0100
TZNAME:CET
DTSTART:20231029T010000
END:STANDARD
BEGIN:DAYLIGHT
TZOFFSETFROM:+0100
TZOFFSETTO:+0200
TZNAME:CEST
DTSTART:20240331T010000
END:DAYLIGHT
BEGIN:STANDARD
TZOFFSETFROM:+0200
TZOFFSETTO:+0100
TZNAME:CET
DTSTART:20241027T010000
END:STANDARD
END:VTIMEZONE
BEGIN:VEVENT
DTSTART;VALUE=DATE:20231011
DTEND;VALUE=DATE:20231013
DTSTAMP:20260420T034936
CREATED:20230814T124409Z
LAST-MODIFIED:20230914T125706Z
UID:1449-1696982400-1697155199@citydealimpactondernemen.nl
SUMMARY:Social Enterprise World Forum
DESCRIPTION:The Social Enterprise World Forum (SEWF) is a global annual flagship event that brings together social entrepreneurs\, policymakers\, investors\, academics and other impact-led professionals to strengthen impact entrepreneurship and encourage systemic change. \n\n\n\n\n\n\n\n\n“Amsterdam is delighted to host the Social Enterprise World Forum 2023. This global event is a milestone in our city’s journey to creating a wellbeing economy that puts people and the planet first\,” says Amsterdam Deputy Mayor Sofyan Mbarki. \n\n\n\n\n\n\n\n\nGerry Higgins\, the founder and managing director of SEWF\, adds: “The social enterprise community worldwide is looking forward to the first SEWF event in mainland Europe. The Netherlands is a leader in the field\, with world-class social enterprises and a highly respected policy ecosystem.” \n\n\n\n\n\n\n\n\nThe event will take place on 11 and 12 October 2023 and will be co-hosted by Amsterdam Impact and Social Enterprise NL\, a national network with more than 430 members. In addition to a two-day event in Amsterdam\, visitors can expect many side events and tours throughout the Netherlands\, with numerous opportunities to connect and start new partnerships. \n\n\n\n\nKlik hier voor meer informatie en hier voor het programma.
URL:https://citydealimpactondernemen.nl/event/social-enterprise-world-forum/
LOCATION:Kromhouthal Amsterdam
ATTACH;FMTTYPE=image/svg+xml:https://citydealimpactondernemen.nl/wp-content/uploads/2023/08/sewf-logo.svg
END:VEVENT
END:VCALENDAR