BEGIN:VCALENDAR
VERSION:2.0
PRODID:-//City Deal Impact Ondernemen - ECPv6.15.20//NONSGML v1.0//EN
CALSCALE:GREGORIAN
METHOD:PUBLISH
X-WR-CALNAME:City Deal Impact Ondernemen
X-ORIGINAL-URL:https://citydealimpactondernemen.nl
X-WR-CALDESC:Evenementen voor City Deal Impact Ondernemen
REFRESH-INTERVAL;VALUE=DURATION:PT1H
X-Robots-Tag:noindex
X-PUBLISHED-TTL:PT1H
BEGIN:VTIMEZONE
TZID:Europe/Amsterdam
BEGIN:DAYLIGHT
TZOFFSETFROM:+0100
TZOFFSETTO:+0200
TZNAME:CEST
DTSTART:20220327T010000
END:DAYLIGHT
BEGIN:STANDARD
TZOFFSETFROM:+0200
TZOFFSETTO:+0100
TZNAME:CET
DTSTART:20221030T010000
END:STANDARD
BEGIN:DAYLIGHT
TZOFFSETFROM:+0100
TZOFFSETTO:+0200
TZNAME:CEST
DTSTART:20230326T010000
END:DAYLIGHT
BEGIN:STANDARD
TZOFFSETFROM:+0200
TZOFFSETTO:+0100
TZNAME:CET
DTSTART:20231029T010000
END:STANDARD
BEGIN:DAYLIGHT
TZOFFSETFROM:+0100
TZOFFSETTO:+0200
TZNAME:CEST
DTSTART:20240331T010000
END:DAYLIGHT
BEGIN:STANDARD
TZOFFSETFROM:+0200
TZOFFSETTO:+0100
TZNAME:CET
DTSTART:20241027T010000
END:STANDARD
END:VTIMEZONE
BEGIN:VEVENT
DTSTART;TZID=Europe/Amsterdam:20231013T090000
DTEND;TZID=Europe/Amsterdam:20231013T170000
DTSTAMP:20260420T034930
CREATED:20230905T075200Z
LAST-MODIFIED:20230905T075200Z
UID:1460-1697187600-1697216400@citydealimpactondernemen.nl
SUMMARY:SEWF City Tour Rotterdam
DESCRIPTION:Ontdek duurzaam en impactvol Rotterdam tijdens de SEWF citytour \nOp 13 oktober organiseert Voor Goed een citytour door Rotterdam tijdens het Social Enterprise World Forum. Tijdens de tour maak je kennis met het sociaal ondernemerschapsklimaat in Rotterdam en ontdek je de kracht van samenwerking en verbinding in de stad. Laat je inspireren in BlueCity (010)\, de voorbeeldstad voor de circulaire economie en blauwe economie\, en geniet van een duurzame en inclusieve lunch in Rotterdam Zuid. De dag wordt afgesloten op een avontuurlijke locatie die nog even geheim blijft…\nBinnen het programma ligt de focus op sociaal ondernemers die impact maken op het gebied van circulariteit\, fair chain\, inclusieve arbeidsparticipatie en sociale cohesie. De tour is gericht op een internationaal publiek en zal daarom in het Engels worden gehouden. \nTickets & info Citytour Rotterdam SEWF 2023:\nhttps://hubs.li/Q0210lB70
URL:https://citydealimpactondernemen.nl/event/sewf-city-tour-rotterdam/
LOCATION:Rotterdam
END:VEVENT
END:VCALENDAR