BEGIN:VCALENDAR
VERSION:2.0
PRODID:-//City Deal Impact Ondernemen - ECPv6.15.20//NONSGML v1.0//EN
CALSCALE:GREGORIAN
METHOD:PUBLISH
X-WR-CALNAME:City Deal Impact Ondernemen
X-ORIGINAL-URL:https://citydealimpactondernemen.nl
X-WR-CALDESC:Evenementen voor City Deal Impact Ondernemen
REFRESH-INTERVAL;VALUE=DURATION:PT1H
X-Robots-Tag:noindex
X-PUBLISHED-TTL:PT1H
BEGIN:VTIMEZONE
TZID:Europe/Amsterdam
BEGIN:DAYLIGHT
TZOFFSETFROM:+0100
TZOFFSETTO:+0200
TZNAME:CEST
DTSTART:20220327T010000
END:DAYLIGHT
BEGIN:STANDARD
TZOFFSETFROM:+0200
TZOFFSETTO:+0100
TZNAME:CET
DTSTART:20221030T010000
END:STANDARD
BEGIN:DAYLIGHT
TZOFFSETFROM:+0100
TZOFFSETTO:+0200
TZNAME:CEST
DTSTART:20230326T010000
END:DAYLIGHT
BEGIN:STANDARD
TZOFFSETFROM:+0200
TZOFFSETTO:+0100
TZNAME:CET
DTSTART:20231029T010000
END:STANDARD
BEGIN:DAYLIGHT
TZOFFSETFROM:+0100
TZOFFSETTO:+0200
TZNAME:CEST
DTSTART:20240331T010000
END:DAYLIGHT
BEGIN:STANDARD
TZOFFSETFROM:+0200
TZOFFSETTO:+0100
TZNAME:CET
DTSTART:20241027T010000
END:STANDARD
END:VTIMEZONE
BEGIN:VEVENT
DTSTART;TZID=Europe/Amsterdam:20231019T090000
DTEND;TZID=Europe/Amsterdam:20231019T160000
DTSTAMP:20260420T034930
CREATED:20231016T110053Z
LAST-MODIFIED:20231016T110053Z
UID:1527-1697706000-1697731200@citydealimpactondernemen.nl
SUMMARY:𝐊𝐞𝐧𝐧𝐢𝐬𝐛𝐢𝐣𝐞𝐞𝐧𝐤𝐨𝐦𝐬𝐭 𝐒𝐨𝐜𝐢𝐚𝐥 𝐑𝐞𝐭𝐮𝐫𝐧 𝐍𝐨𝐨𝐫𝐝 𝐍𝐞𝐝𝐞𝐫𝐥𝐚𝐧𝐝
DESCRIPTION:𝐊𝐞𝐧𝐧𝐢𝐬𝐛𝐢𝐣𝐞𝐞𝐧𝐤𝐨𝐦𝐬𝐭 𝐒𝐨𝐜𝐢𝐚𝐥 𝐑𝐞𝐭𝐮𝐫𝐧 𝐍𝐨𝐨𝐫𝐝 𝐍𝐞𝐝𝐞𝐫𝐥𝐚𝐧𝐝 – 19 𝐨𝐤𝐭𝐨𝐛𝐞𝐫 2023 \nWerk jij als inkoper\, contractmanager of accountmanager Werk bij een overheidsorganisatie in Noord-Nederland en heb jij te maken met opdrachten met een Social Return opgave? Dan ben je op 19 oktober van harte welkom in De Zuivelfabriek in Bunne voor de Kennisbijeenkomst Social Return\, georganiseerd door de coördinatiepunten Social Return van Drenthe\, Friesland en Groningen. \n  \nDe dag is bedoeld om kennis en informatie op te doen\, maar vooral ook om elkaar te leren kennen en te inspireren. Wij zorgen voor genoeg tijd tussendoor om te netwerken\, een goed verzorgde lunch en een netwerkborrel aan het einde van het programma. Jij spreekt collega’s uit de andere noordelijke provincies en krijgt ongetwijfeld veel nieuwe inzichten door met elkaar te spreken over jullie manier van werken\, de uitdagingen waar jullie tegenaan lopen en de kansen die jullie zien. Zo zorgen we samen voor een grotere impact van Social Return! \n  \n𝐏𝐫𝐨𝐠𝐫𝐚𝐦𝐦𝐚 𝐢𝐧 𝐡𝐞𝐭 𝐤𝐨𝐫𝐭 \n9.00 uur              Inloop \n9.30 uur              Start programma: Agnes Mulder\, Roelof de Vries\, Petra Oden en Astrid Mersmans met elkaar in gesprek over Social Return. \n  \nTussen 11.00 en 15.30 uur kun je drie workshops kiezen die je aanspreken. \nBeter aanbesteden Pianoo – Tjeerd Planting (PIANOo Expertisecentrum Aanbesteden) \nNut & noodzaak regionale aanbestedingskalender – Jan van der Ploeg \nImpact Ondernemen: waarom en hoe dan? – Willemiek Everts (Impact Noord) \nSDG House\, onderwijs en Sustainable Development Goals – Sharon Postma (Noorderpoort) \nCity Deal Impact Ondernemen – Petra Oden(Hanzehogeschool Groningen) \nIPNN; Maatschappelijk Verantwoord Ondernemen en Inkopen – Albert Geuchies (Inkoop Platform Noord-Nederland) \nDe inclusieve bouwplaats – Astrid Mersmans (Stichting Onderzoek Duurzaam SROI) \nDe donut-economy – Roelof de Vries \nSociale duurzaamheid binnen de Donker Groep – Gerard Veugelers \n  \n 15.30 uur          Afsluiting en netwerkborrel \n  \nAanmelden kan via: https://forms.office.com/pages/responsepage.aspx?id=4xeMk9k85k-Q0KEFOhIotb4X5ot6gJtNk3snWiYg96JUNTc2TjBEWkhLSk1SVjZDMlU1NkNRRUw5SS4u
URL:https://citydealimpactondernemen.nl/event/%f0%9d%90%8a%f0%9d%90%9e%f0%9d%90%a7%f0%9d%90%a7%f0%9d%90%a2%f0%9d%90%ac%f0%9d%90%9b%f0%9d%90%a2%f0%9d%90%a3%f0%9d%90%9e%f0%9d%90%9e%f0%9d%90%a7%f0%9d%90%a4%f0%9d%90%a8%f0%9d%90%a6%f0%9d%90%ac/
LOCATION:De Zuivelfabriek in Bunne
END:VEVENT
END:VCALENDAR