BEGIN:VCALENDAR
VERSION:2.0
PRODID:-//City Deal Impact Ondernemen - ECPv6.15.20//NONSGML v1.0//EN
CALSCALE:GREGORIAN
METHOD:PUBLISH
X-ORIGINAL-URL:https://citydealimpactondernemen.nl
X-WR-CALDESC:Evenementen voor City Deal Impact Ondernemen
REFRESH-INTERVAL;VALUE=DURATION:PT1H
X-Robots-Tag:noindex
X-PUBLISHED-TTL:PT1H
BEGIN:VTIMEZONE
TZID:Europe/Amsterdam
BEGIN:DAYLIGHT
TZOFFSETFROM:+0100
TZOFFSETTO:+0200
TZNAME:CEST
DTSTART:20220327T010000
END:DAYLIGHT
BEGIN:STANDARD
TZOFFSETFROM:+0200
TZOFFSETTO:+0100
TZNAME:CET
DTSTART:20221030T010000
END:STANDARD
BEGIN:DAYLIGHT
TZOFFSETFROM:+0100
TZOFFSETTO:+0200
TZNAME:CEST
DTSTART:20230326T010000
END:DAYLIGHT
BEGIN:STANDARD
TZOFFSETFROM:+0200
TZOFFSETTO:+0100
TZNAME:CET
DTSTART:20231029T010000
END:STANDARD
BEGIN:DAYLIGHT
TZOFFSETFROM:+0100
TZOFFSETTO:+0200
TZNAME:CEST
DTSTART:20240331T010000
END:DAYLIGHT
BEGIN:STANDARD
TZOFFSETFROM:+0200
TZOFFSETTO:+0100
TZNAME:CET
DTSTART:20241027T010000
END:STANDARD
END:VTIMEZONE
BEGIN:VEVENT
DTSTART;TZID=Europe/Amsterdam:20231107T093000
DTEND;TZID=Europe/Amsterdam:20231107T113000
DTSTAMP:20260420T015433
CREATED:20231110T132556Z
LAST-MODIFIED:20231110T132556Z
UID:1586-1699349400-1699356600@citydealimpactondernemen.nl
SUMMARY:Koepeloverleg #4 met Impact Fest: Governance en organisatie koepel 2024 en verder
DESCRIPTION:De impact ondernemersnetwerken in Nederland zijn verenigd in een zogenoemde koepelconstructie. Deze koepel faciliteert onderlinge uitwisseling door regelmatige (online) bijeenkomsten. Onderwerpen die op de agenda staan zijn gericht op het vergroten van inkoop door gemeenten bij (lokale) impact ondernemingen\, regionale samenwerking met overheden en/of financiers en kennisinstellingen en alternatieve financieringsvormen.
URL:https://citydealimpactondernemen.nl/event/koepeloverleg-4-met-impact-fest-governance-en-organisatie-koepel-2024-en-verder/
END:VEVENT
BEGIN:VEVENT
DTSTART;TZID=Europe/Amsterdam:20231107T100000
DTEND;TZID=Europe/Amsterdam:20231107T153000
DTSTAMP:20260420T015433
CREATED:20231003T121151Z
LAST-MODIFIED:20231003T125524Z
UID:1502-1699351200-1699371000@citydealimpactondernemen.nl
SUMMARY:10 jaar sociale coöperaties in Nederland
DESCRIPTION:10 jaar sociale coöperaties in Nederland\nDe kracht van onderlinge verbondenheid \n\nTien jaar geleden vond de eerste vergadering plaats van de allereerste sociale coöperatie in Nederland. De Vrije Uitloop in Breda\, opgericht door Erna Smeekens en Hans Udo\, markeerde het begin van een nieuwe beweging in Nederland. Een beweging richting onderlinge verbondenheid en sociale samenhang\, ontstaan vanuit de behoefte om mensen met een uitkering te laten ondernemen naar vermogen en bij te dragen aan hun talenten. Een ware inspiratie\, want vandaag de dag bestaan er meer dan 25 sociale coöperaties!In een tijd waarin individualisering hoogtij viert\, klinken steeds vaker geluiden van mensen die de sociale samenhang en onderlinge verbondenheid missen. Hoe organiseer je de gezamenlijkheid die we met z’n allen zijn kwijtgeraakt? Het antwoord schuilt in sociale coöperaties. In sociale coöperaties doe je het samen: de mensen delen echt iets met elkaar. Zij delen dezelfde drempels die zij tegenkomen in het leven\, maar ook de vreugde als iets lukt. \nGedeeld eigenaarschap\nIn een sociale coöperatie zijn alle leden mede-eigenaar. Samenwerken staat centraal. De coöperaties creëren een gevoel van thuis voor hun leden. Ze bieden een omgeving waarin mensen zich kunnen verbinden\, waarin zij hun talenten kunnen ontdekken\, waar zij het gevoel hebben dat ze erbij horen. Je ziet daardoor dat mensen enorm groeien. Zij krijgen weer zelfvertrouwen en meer eigenwaarde. Zij voelen zich weer trots tegenover hun gezin. Leden zeggen dan ook: ‘dit is de eerste plek die ik tegenkom in mijn leven waar ik écht mezelf kan zijn’. \nDe groei van sociale coöperaties\nDe afgelopen tien jaar laat zien hoe sociale coöperaties steeds meer een plek bemachtigen in de samenleving. Nederland telt nu meer dan 25 sociale coöperaties! Deze zijn er in verschillende vormen. Sommige coöperaties focussen zich alleen op participatie; het weer kunnen laten meedoen van mensen in de samenleving door te ondernemen naar vermogen. Andere richten zich expliciet op uitstroom van leden naar een eigen bedrijf met omzet of naar een baan in loondienst. Ook zijn er coöperaties die een mengvorm aannemen. \nLaNSCO: de gezamenlijke stem van coöperaties\nMinisteries en lokale overheden zijn steeds meer op zoek naar nieuwe manieren van werken en participatie. Sociale coöperaties sluiten goed aan op deze behoeften. Toch blijft het pionieren in elke gemeente. Vanwege het uitdagende pionierswerk en het groeiend aantal sociale coöperaties in Nederland is LaNSCO in het leven geroepen: het landelijk netwerk van sociale coöperaties in Nederland. LaNSCO bevordert verbinding\, gezamenlijk leren en een gezamenlijke stem voor alle sociale coöperaties. Verenigd in een landelijk netwerk kan LaNSCO écht het verschil maken. \nVier het tienjarig jubileum met ons\nHet verschil maken is gelukt. Sociale coöperaties zijn nu tien jaar een concept in Nederland. En dat is reden voor feest! Daarom nodigt LaNSCO op dinsdag 7 november 2023 iedereen uit om dit tienjarig jubileum met ons te vieren. Een feestelijke dag met optredens\, een markt met producten van de leden én heerlijke catering verzorgd door leden. Iedereen is welkom! Meld je aan als sociale coöperatie of externe. Of bekijk de uitnodiging.
URL:https://citydealimpactondernemen.nl/event/10-jaar-sociale-cooperaties-in-nederland/
ATTACH;FMTTYPE=image/png:https://citydealimpactondernemen.nl/wp-content/uploads/2023/10/Templates-training-vakmanschap-400x400-1.png
END:VEVENT
END:VCALENDAR