BEGIN:VCALENDAR
VERSION:2.0
PRODID:-//City Deal Impact Ondernemen - ECPv6.15.20//NONSGML v1.0//EN
CALSCALE:GREGORIAN
METHOD:PUBLISH
X-WR-CALNAME:City Deal Impact Ondernemen
X-ORIGINAL-URL:https://citydealimpactondernemen.nl
X-WR-CALDESC:Evenementen voor City Deal Impact Ondernemen
REFRESH-INTERVAL;VALUE=DURATION:PT1H
X-Robots-Tag:noindex
X-PUBLISHED-TTL:PT1H
BEGIN:VTIMEZONE
TZID:Europe/Amsterdam
BEGIN:DAYLIGHT
TZOFFSETFROM:+0100
TZOFFSETTO:+0200
TZNAME:CEST
DTSTART:20220327T010000
END:DAYLIGHT
BEGIN:STANDARD
TZOFFSETFROM:+0200
TZOFFSETTO:+0100
TZNAME:CET
DTSTART:20221030T010000
END:STANDARD
BEGIN:DAYLIGHT
TZOFFSETFROM:+0100
TZOFFSETTO:+0200
TZNAME:CEST
DTSTART:20230326T010000
END:DAYLIGHT
BEGIN:STANDARD
TZOFFSETFROM:+0200
TZOFFSETTO:+0100
TZNAME:CET
DTSTART:20231029T010000
END:STANDARD
BEGIN:DAYLIGHT
TZOFFSETFROM:+0100
TZOFFSETTO:+0200
TZNAME:CEST
DTSTART:20240331T010000
END:DAYLIGHT
BEGIN:STANDARD
TZOFFSETFROM:+0200
TZOFFSETTO:+0100
TZNAME:CET
DTSTART:20241027T010000
END:STANDARD
END:VTIMEZONE
BEGIN:VEVENT
DTSTART;TZID=Europe/Amsterdam:20231128T163000
DTEND;TZID=Europe/Amsterdam:20231128T190000
DTSTAMP:20260419T234748
CREATED:20231127T114821Z
LAST-MODIFIED:20231127T114821Z
UID:1623-1701189000-1701198000@citydealimpactondernemen.nl
SUMMARY:Win-winterfest van Stichting VoorGoed
DESCRIPTION:Win-winterfest van Stichting VoorGoed\nImpact ondernemen gaat over goed doen en geld verdienen. Het gaat dus om én-én. Steeds meer mensen en bedrijven maken deze mindset-shift. De combinatie van maatschappelijke betrokkenheid en economische waarden zorgt ervoor dat ’the winner takes it all’ niet meer geldt\, het gaat om creëren van win-win situaties. Hoe kun je ondernemen zodat zowel jouw organisatie als de maatschappij er baat bij heeft. Dat staat centraal in de betekenis economie. \nStichting VoorGoed nodigt je daarom van harte uit voor Win-Winterfest. Tijdens dit impactvolle event in Wijktheater De Buurvrouw kun je je even onder dompelen in de wereld van impact ondernemen. We kijken terug op de winst die we met elkaar hebben geboekt en laten zien wat er volgend jaar op de planning staat. We hebben diverse indrukwekkende sprekers/acts. Verder is er een mini-markt waar je je kunt laten inspireren door impact ondernemers en partnerorganisaties. Ga met elkaar in gesprek en ontdek nieuwe mensen en inzichten. En natuurlijk is er ruim de tijd voor lekker drankjes en heerlijke versnaperingen in winterse sferen. \n  \nProgramma16:30: Inloop \n17:00: Start programma inclusief sprekers en acts \n18:15: Winter mini-markt met hapjes & drankjes \n19.00: Afsluiting
URL:https://citydealimpactondernemen.nl/event/win-winterfest-van-stichting-voorgoed/
LOCATION:De Buurvrouw  200 Larikslaan 3053 LG Rotterdam
ATTACH;FMTTYPE=image/svg+xml:https://citydealimpactondernemen.nl/wp-content/uploads/2023/11/logo-rood.svg
END:VEVENT
END:VCALENDAR