BEGIN:VCALENDAR
VERSION:2.0
PRODID:-//City Deal Impact Ondernemen - ECPv6.15.20//NONSGML v1.0//EN
CALSCALE:GREGORIAN
METHOD:PUBLISH
X-ORIGINAL-URL:https://citydealimpactondernemen.nl
X-WR-CALDESC:Evenementen voor City Deal Impact Ondernemen
REFRESH-INTERVAL;VALUE=DURATION:PT1H
X-Robots-Tag:noindex
X-PUBLISHED-TTL:PT1H
BEGIN:VTIMEZONE
TZID:Europe/Amsterdam
BEGIN:DAYLIGHT
TZOFFSETFROM:+0100
TZOFFSETTO:+0200
TZNAME:CEST
DTSTART:20220327T010000
END:DAYLIGHT
BEGIN:STANDARD
TZOFFSETFROM:+0200
TZOFFSETTO:+0100
TZNAME:CET
DTSTART:20221030T010000
END:STANDARD
BEGIN:DAYLIGHT
TZOFFSETFROM:+0100
TZOFFSETTO:+0200
TZNAME:CEST
DTSTART:20230326T010000
END:DAYLIGHT
BEGIN:STANDARD
TZOFFSETFROM:+0200
TZOFFSETTO:+0100
TZNAME:CET
DTSTART:20231029T010000
END:STANDARD
BEGIN:DAYLIGHT
TZOFFSETFROM:+0100
TZOFFSETTO:+0200
TZNAME:CEST
DTSTART:20240331T010000
END:DAYLIGHT
BEGIN:STANDARD
TZOFFSETFROM:+0200
TZOFFSETTO:+0100
TZNAME:CET
DTSTART:20241027T010000
END:STANDARD
END:VTIMEZONE
BEGIN:VEVENT
DTSTART;TZID=Europe/Amsterdam:20231130T100000
DTEND;TZID=Europe/Amsterdam:20231130T120000
DTSTAMP:20260419T234830
CREATED:20231017T082932Z
LAST-MODIFIED:20231017T082932Z
UID:1550-1701338400-1701345600@citydealimpactondernemen.nl
SUMMARY:Intervisie Pianoo: Ketenverantwoordelijkheid in de praktijk
DESCRIPTION:Intervisie: Ketenverantwoordelijkheid in de praktijk\n30 november 2023 | Bron: PIANOo\n\nHeb je behoefte aan inhoudelijke ondersteuning op het gebied van ketenverantwoordelijkheid? En wil je jouw vraagstukken met andere inkoopprofessionals bespreken en/of evalueren? Kom op 30 november 2023 naar de Intervisie Ketenverantwoordelijkheid in de praktijk. Formuleer samen met deelnemers en experts oplossingen voor jouw vraagstukken en leer van elkaars ervaringen. \n\n\n\nOpdrachtnemers\, maar ook opdrachtgevers zijn verantwoordelijk om misstanden in de keten op het gebied van onder andere mensenrechten\, kinderarbeid en milieuvervuiling te voorkomen of tegen te gaan. Dit is een complexe taak en veel inkopers ervaren zowel binnen hun organisatie (beleid\, regelgeving etc.) als buiten de organisatie (complexe ketens\, onduidelijke informatie etc.) problemen. \nTijdens deze intervisie over ketenverantwoordelijkheid evalueren de deelnemers de oplossingen voor vraagstukken die tijdens de vorige intervisie over ketenverantwoordelijkheid (26 september 2023) in kaart zijn gebracht. Ook delen deelnemers nieuwe vraagstukken en formuleren zij samen met de experts mogelijke oplossingen. \nVoor wie?\nDeelnemers starten of zijn al gestart met ketenverantwoordelijkheid\, beschikken over de nodige basiskennis en hebben bijvoorbeeld de E-learning Ketenverantwoordelijkheid & ISV gevolgd. \nDenk bij relevante functies aan inkopers\, interne opdrachtgevers\, contractmanagers en verdere stakeholders die zich bezighouden met ketenverantwoordelijkheid binnen een aanbestedende dienst. \nProgramma\nTijdens deze intervisie zijn er meerdere experts op het gebied van ketenverantwoordelijkheid aanwezig. \n\nOpening door PIANOo\nOplossingen voor vraagstukken evalueren (uitkomsten intervisie ketenverantwoordelijkheid 26 september 2023).\nDeelnemers delen eigen vraagstukken rondom ketenverantwoordelijkheid.\nDe groep formuleert samen met een aantal experts mogelijke oplossingen voor de uiteenlopende vraagstukken.\nAfsluiting en lunch.\n\nOp 26 september 2023 organiseert PIANOo de eerste intervisie over ketenverantwoordelijkheid. Tijdens deze sessie bespreekt de groep vraagstukken van deelnemers rondom ketenverantwoordelijkheid. Schrijf jezelf voor ieder event apart in (beperkte capaciteit). Het is niet noodzakelijk om bij beide intervisies aanwezig te zijn. \nDatum\, tijd en locatie\nDonderdag 30 november 2023 van 10.00 – 12.00 uur. Inloop vanaf 09.30 uur en de lunch is tot 13.00 uur. \nLocatie: Graadt van Roggenweg 200 in Utrecht (nabij Utrecht CS) \nKosten\nDeelname is gratis \nAanmelden\nStuur een e-mail naar bijeenkomsten@pianoo.nl als op een later moment blijkt dat je niet aanwezig kunt zijn. Op die manier geef je iemand anders de kans om aan te sluiten bij deze sessie.
URL:https://citydealimpactondernemen.nl/event/intervisie-pianoo-ketenverantwoordelijkheid-in-de-praktijk/
LOCATION:Graadt van Roggenweg 200 in Utrecht
END:VEVENT
BEGIN:VEVENT
DTSTART;TZID=Europe/Amsterdam:20231130T133000
DTEND;TZID=Europe/Amsterdam:20231130T183000
DTSTAMP:20260419T234830
CREATED:20231121T100912Z
LAST-MODIFIED:20231121T101006Z
UID:1591-1701351000-1701369000@citydealimpactondernemen.nl
SUMMARY:KVK Innovatie Top 100 Event 2023
DESCRIPTION:KVK Innovatie Top 100 Event 2023\n\n\n\n\n\nKom naar het KVK Innovatie Top 100 Event: dé plek waar innovatieve ondernemers van Nederland samenkomen. Maak kennis met partners die jou kunnen helpen bij je groei-uitdagingen\, ontdek de innovaties van de finalisten van de KVK Innovatie Top 100 en laat je inspireren door andere ondernemers en experts. Ook worden de ranking én de winnaar van de KVK Innovatie Top 100 van 2023 bekendgemaakt. \nWat valt er te beleven?\nOp het KVK Innovatie Top 100 Event stel je je eigen programma samen. Schuif aan bij de onderdelen van jouw keuze: laat je inspireren door verhalen van bekende ondernemers in de Inspiratie-arena of luister naar korte\, krachtige adviezen tijdens de Topsessies. Spar met gelijkgestemde ondernemers aan de Netwerktafels of stel je vragen aan onze partners. \nBekijk het volledige dagprogramma en meld je vandaag nog aan. \n\n\nMeld je gratis aan\n\nProgramma\n\n13:30 Inloop \n\n\n14:00 Opening door dagvoorzitter Irene Rompa\n\n\nIrene Rompa\, dagvoorzitter en voormalig CEO van Dopper USA\, gaat in gesprek met onder andere Gijs den Butter\, winnaar van de KVK Innovatie Top 100 van 2022 en oprichter van SenseGlove.\n\n\n14:30 Stel je eigen programma samen \n\n\n\n\n– Krijg persoonlijk advies van KVK\n– Maak kennis met interessante partners\n– Leer van ervaren ondernemers in de Inspiratie-arena en tijdens de Topsessies\n– Ontdek de innovaties uit de KVK Innovatie Top 100 bij de Top 100 Expo\n– Ontmoet andere innovatieve ondernemers bij de Netwerktafels\n\n\n\n\n17:00 Bekendmaking winnaar KVK Innovatie Top 100 van 2023 \n\n\n\n\n\n17:30 – 18:30 Netwerkborrel
URL:https://citydealimpactondernemen.nl/event/1591/
LOCATION:DeFabrique\, Westkanaaldijk 7\, 3542 DA Utrecht
ATTACH;FMTTYPE=image/jpeg:https://citydealimpactondernemen.nl/wp-content/uploads/2023/11/beeld-b-innovatie-top-100-456TR_tcm109-511185.jpg
END:VEVENT
END:VCALENDAR