BEGIN:VCALENDAR
VERSION:2.0
PRODID:-//City Deal Impact Ondernemen - ECPv6.15.20//NONSGML v1.0//EN
CALSCALE:GREGORIAN
METHOD:PUBLISH
X-ORIGINAL-URL:https://citydealimpactondernemen.nl
X-WR-CALDESC:Evenementen voor City Deal Impact Ondernemen
REFRESH-INTERVAL;VALUE=DURATION:PT1H
X-Robots-Tag:noindex
X-PUBLISHED-TTL:PT1H
BEGIN:VTIMEZONE
TZID:Europe/Amsterdam
BEGIN:DAYLIGHT
TZOFFSETFROM:+0100
TZOFFSETTO:+0200
TZNAME:CEST
DTSTART:20220327T010000
END:DAYLIGHT
BEGIN:STANDARD
TZOFFSETFROM:+0200
TZOFFSETTO:+0100
TZNAME:CET
DTSTART:20221030T010000
END:STANDARD
BEGIN:DAYLIGHT
TZOFFSETFROM:+0100
TZOFFSETTO:+0200
TZNAME:CEST
DTSTART:20230326T010000
END:DAYLIGHT
BEGIN:STANDARD
TZOFFSETFROM:+0200
TZOFFSETTO:+0100
TZNAME:CET
DTSTART:20231029T010000
END:STANDARD
BEGIN:DAYLIGHT
TZOFFSETFROM:+0100
TZOFFSETTO:+0200
TZNAME:CEST
DTSTART:20240331T010000
END:DAYLIGHT
BEGIN:STANDARD
TZOFFSETFROM:+0200
TZOFFSETTO:+0100
TZNAME:CET
DTSTART:20241027T010000
END:STANDARD
END:VTIMEZONE
BEGIN:VEVENT
DTSTART;TZID=Europe/Amsterdam:20231206T080000
DTEND;TZID=Europe/Amsterdam:20231206T170000
DTSTAMP:20260419T234830
CREATED:20231206T133756Z
LAST-MODIFIED:20231206T133756Z
UID:1632-1701849600-1701882000@citydealimpactondernemen.nl
SUMMARY:Impact Talk 2023 -  Social Finance NL en Gemeente Rotterdam
DESCRIPTION:Impact Talk 2023\nSocial Finance NL en Gemeente Rotterdam nodigen je uit voor de Impact Talk op woensdag 6 december. \nDe Impact Talk is een unieke gelegenheid om te netwerken met beleidsbepalers op het gebied van impact investing\, overheid en filantropie. Ga tijdens de interactieve workshops in gesprek met andere gasten en laat je inspireren tijdens het diner. \nKeynote spreker is THE RT HON NICK HURD Voormalig minister van Civil Society in Engeland en voorzitter van de Global Steering Group for Impact Investing. \n‘HOW CAN MARKETS WORK FOR SOCIETY?’ The future of impact investing\, social entrepreneurship and results-based finance. \nPROGRAMMA \n15.30 – INLOOP EN WELKOM \n16.00 – 17.30 WORKSHOPS – Kies een workshop naar keuze bij ‘Tickets ophalen’ \n\nResultaatfinanciering in de zorg\nInclusieve businesscases voor mkb-bedrijven\nImpact Investing voor filantropie\nBouwen aan een lokaal impact ecosysteem\n\n18.00 – 21.30 DINER \n\nMet keynote spreker Nick Hurd\nBoekpresentatie van De Nieuwe Polder\nProosten op 5-jarig jubileum Social Finance NL\n\nDATUM \nWoensdag 6 december \n\n\n\n\nLOCATIES \nWORKSHOPS: Buitenplaats Rozenlust\, Parklaan 11\, Rotterdam \nDINER & IMPACT TALK: Sociëteit aan de Maas\, Veerdam 1\, Rotterdam \nHet is 5 minuten lopen tussen de 2 locaties. \nBEREIKBAARHEID \nOV: Tramlijn 7 (vanaf Rotterdam CS) stopt op 400 meter afstand. Metrostation Leuvehaven is op een afstand van 5 minuten lopen. \nFiets: Het is ongeveer 10 minuten vanaf Rotterdam CS. \nAuto: Parkeren kan op het terrein van Buitenplaats Rozenlust. De auto kan blijven staan tijdens het diner.
URL:https://citydealimpactondernemen.nl/event/impact-talk-2023-social-finance-nl-en-gemeente-rotterdam/
ATTACH;FMTTYPE=image/jpeg:https://citydealimpactondernemen.nl/wp-content/uploads/2023/12/https___cdn.evbuc_.com_images_605487549_416411873771_1_original.jpg
END:VEVENT
END:VCALENDAR