BEGIN:VCALENDAR
VERSION:2.0
PRODID:-//City Deal Impact Ondernemen - ECPv6.15.20//NONSGML v1.0//EN
CALSCALE:GREGORIAN
METHOD:PUBLISH
X-ORIGINAL-URL:https://citydealimpactondernemen.nl
X-WR-CALDESC:Evenementen voor City Deal Impact Ondernemen
REFRESH-INTERVAL;VALUE=DURATION:PT1H
X-Robots-Tag:noindex
X-PUBLISHED-TTL:PT1H
BEGIN:VTIMEZONE
TZID:Europe/Amsterdam
BEGIN:DAYLIGHT
TZOFFSETFROM:+0100
TZOFFSETTO:+0200
TZNAME:CEST
DTSTART:20230326T010000
END:DAYLIGHT
BEGIN:STANDARD
TZOFFSETFROM:+0200
TZOFFSETTO:+0100
TZNAME:CET
DTSTART:20231029T010000
END:STANDARD
BEGIN:DAYLIGHT
TZOFFSETFROM:+0100
TZOFFSETTO:+0200
TZNAME:CEST
DTSTART:20240331T010000
END:DAYLIGHT
BEGIN:STANDARD
TZOFFSETFROM:+0200
TZOFFSETTO:+0100
TZNAME:CET
DTSTART:20241027T010000
END:STANDARD
BEGIN:DAYLIGHT
TZOFFSETFROM:+0100
TZOFFSETTO:+0200
TZNAME:CEST
DTSTART:20250330T010000
END:DAYLIGHT
BEGIN:STANDARD
TZOFFSETFROM:+0200
TZOFFSETTO:+0100
TZNAME:CET
DTSTART:20251026T010000
END:STANDARD
END:VTIMEZONE
BEGIN:VEVENT
DTSTART;VALUE=DATE:20240321
DTEND;VALUE=DATE:20240323
DTSTAMP:20260419T183747
CREATED:20240131T113949Z
LAST-MODIFIED:20240131T113949Z
UID:1759-1710979200-1711151999@citydealimpactondernemen.nl
SUMMARY:The Euclid Impact Summit
DESCRIPTION:The Euclid Network IMPACT SUMMIT 2024\n\n\n\nBuilding Bridges – From Intention To Action\n\n\n\n\nTitaan\, The Hague\, The Netherlands\n20th – 21st March\n\nThe Euclid Network Impact Summit 2024 will create and strengthen meaningful connections between impact-driven leaders\, representatives of non-profit and social enterprise (inter)national alliances\, networks and support organisations\, foundations\, impact investors\, corporate innovators\, academics\, researchers and policy makers. \nAt the Summit\, key impact leaders will join forces for a better world. Together we will align to effectively address global societal and environmental challenges and define innovative\, sustainable solutions and partnerships. We want to Build Bridges – from intention to action to drive the important transformations of our time and reach together our common vision of a socially inclusive and sustainable society and economy. \n\nBekijk hier het programma. \nBestel hier je kaartje.
URL:https://citydealimpactondernemen.nl/event/the-euclid-impact-summit/
LOCATION:Titaan\, Den Haag
ATTACH;FMTTYPE=image/png:https://citydealimpactondernemen.nl/wp-content/uploads/2024/01/logo-en-impact-summit-2024.png
END:VEVENT
END:VCALENDAR