BEGIN:VCALENDAR
VERSION:2.0
PRODID:-//City Deal Impact Ondernemen - ECPv6.15.20//NONSGML v1.0//EN
CALSCALE:GREGORIAN
METHOD:PUBLISH
X-WR-CALNAME:City Deal Impact Ondernemen
X-ORIGINAL-URL:https://citydealimpactondernemen.nl
X-WR-CALDESC:Evenementen voor City Deal Impact Ondernemen
REFRESH-INTERVAL;VALUE=DURATION:PT1H
X-Robots-Tag:noindex
X-PUBLISHED-TTL:PT1H
BEGIN:VTIMEZONE
TZID:Europe/Amsterdam
BEGIN:DAYLIGHT
TZOFFSETFROM:+0100
TZOFFSETTO:+0200
TZNAME:CEST
DTSTART:20220327T010000
END:DAYLIGHT
BEGIN:STANDARD
TZOFFSETFROM:+0200
TZOFFSETTO:+0100
TZNAME:CET
DTSTART:20221030T010000
END:STANDARD
BEGIN:DAYLIGHT
TZOFFSETFROM:+0100
TZOFFSETTO:+0200
TZNAME:CEST
DTSTART:20230326T010000
END:DAYLIGHT
BEGIN:STANDARD
TZOFFSETFROM:+0200
TZOFFSETTO:+0100
TZNAME:CET
DTSTART:20231029T010000
END:STANDARD
BEGIN:DAYLIGHT
TZOFFSETFROM:+0100
TZOFFSETTO:+0200
TZNAME:CEST
DTSTART:20240331T010000
END:DAYLIGHT
BEGIN:STANDARD
TZOFFSETFROM:+0200
TZOFFSETTO:+0100
TZNAME:CET
DTSTART:20241027T010000
END:STANDARD
END:VTIMEZONE
BEGIN:VEVENT
DTSTART;TZID=Europe/Amsterdam:20230606T133000
DTEND;TZID=Europe/Amsterdam:20230606T173000
DTSTAMP:20260420T085238
CREATED:20230501T132751Z
LAST-MODIFIED:20230515T141037Z
UID:1251-1686058200-1686072600@citydealimpactondernemen.nl
SUMMARY:Social Impact Event
DESCRIPTION:In co-creatie met Buy Social host ohmygood de derde editie van het Social Impact Event in ‘s-Hertogenbosch! \nEasy to make impact; hoe dan?: Sociaal ondernemers en bedrijven delen hun ervaringen. \nImpact Masterclasses:  Experts en impactmakers uit het netwerk van Buy Social en ohmygood verzorgen masterclasses\, zoals: \n\nVerantwoord en sociaal inkopen (met best practices uit Utrecht en Haarlem)- Thea Verheul\nCSRD; een verplichting of een kans? – Jack Stuifbergen en Mark van Rijn\n\nImpact Dating & Inspiration: Ontmoet sociaal ondernemers – sociaal bewogen bedrijven – (lokale) overheden – impact investors en ontdek producten waarmee je zorgt voor meer impact. \nKijk voor meer informatie op de website.
URL:https://citydealimpactondernemen.nl/event/social-impact-event/
LOCATION:Gruyterfabriek Veemarktkade 8 5222AE ‘s-Hertogenbosch
ATTACH;FMTTYPE=image/png:https://citydealimpactondernemen.nl/wp-content/uploads/2023/05/Schermafbeelding-2023-05-15-om-16.03.36.png
END:VEVENT
BEGIN:VEVENT
DTSTART;TZID=Europe/Amsterdam:20230616T100000
DTEND;TZID=Europe/Amsterdam:20230616T173000
DTSTAMP:20260420T085238
CREATED:20230515T132631Z
LAST-MODIFIED:20230515T132631Z
UID:1289-1686909600-1686936600@citydealimpactondernemen.nl
SUMMARY:25 jaar subsidierecht in de praktijk: tijd voor innovatieve overheidsfinanciering?
DESCRIPTION:Zijn onze subsidies als financieringsvorm aan vernieuwing toe? Op vrijdag 16 juni organiseert het samenwerkingsverband Financieren in Netwerken in Den Haag een congres over nieuwe innovatieve financieringsvormen en 25 jaar subsidierecht in de praktijk. Provincie Gelderland is één van de mede-organisatoren. Meld je zeker aan als dit onderwerp je interesseert! \nTijd voor verandering?\nDe laatste jaren kiezen overheden steeds vaker voor nieuwe innovatieve financieringsvormen. Ook in Gelderland kennen we naast subsidies revolverende fondsen\, publieke prijsvragen en challenges. Deze instrumenten passen bij de veranderende verhouding tussen overheid en maatschappelijke organisaties\, waarbij samenwerken in netwerken steeds centraler komt te staan. \nOp het congres op 16 juni wordt uitgebreid stilgestaan staan bij deze ontwikkeling. Zowel ervaringen uit de praktijk als wetenschappelijk onderzoek komen er aan bod. \nMeer informatie over het programma vind je via de website van het samenwerkingsverband Financieren in Netwerken. Bekijk op deze website ook eens de handige keuzetool voor de verschillende financieringsvormen die er al zijn in de praktijk.
URL:https://citydealimpactondernemen.nl/event/25-jaar-subsidierecht-in-de-praktijk-tijd-voor-innovatieve-overheidsfinanciering/
LOCATION:Wijnhaven Den Haag Turfmarkt 99\, 2511 DP Den Haag
ATTACH;FMTTYPE=image/jpeg:https://citydealimpactondernemen.nl/wp-content/uploads/2023/05/image001.jpg
END:VEVENT
BEGIN:VEVENT
DTSTART;TZID=Europe/Amsterdam:20230616T113000
DTEND;TZID=Europe/Amsterdam:20230616T183000
DTSTAMP:20260420T085238
CREATED:20230522T111159Z
LAST-MODIFIED:20230522T111304Z
UID:1315-1686915000-1686940200@citydealimpactondernemen.nl
SUMMARY:Burgercollectieven en overheid: Genoeg geëxperimenteerd?!
DESCRIPTION:Burgers krijgen van lokale overheden wel vaker de ruimte om met hun collectief (in energie\, zorg\, voeding\, wonen…) te experimenteren en uit te zoeken wat mogelijk is. Inmiddels zijn er in Nederland al zoveel burgercollectieven in zowat alle sectoren\, dat we ons kunnen afvragen: is er niet al genoeg geëxperimenteerd? Is het niet tijd dat al dat experimenteren ook eens gaat leiden tot het aanvaarden van deze andere manier van organiseren? Is het geen tijd om de rol die burgers daar vrijwillig in opnemen ook te gaan erkennen als waardevol voor de hele samenleving? \nTijdens de CollectieveKracht-Meeting met als thema ‘’Burgercollectieven en overheid: Genoeg geëxperimenteerd?!’’ gaan we hier dieper op in\, en zwengelen we de dialoog tussen alle betrokken stakeholders verder aan door het uitwisselen van ervaringen\, verhalen\, inzichten uit praktijk en wetenschap en hierover met elkaar in gesprek te gaan. \nHet evenement begint met een warm welkom door Lukas Held van CollectieveKracht en Jacques Giesbertz van Europe Direct Eindhoven. Hierop volgt een keynote van Godfried Engbersen en tien sessies met elk hun eigen thema’s en sprekers. Het evenement wordt afgesloten met een panel en netwerkborrel. \nWelkomstconsumpties en consumpties tijdens de netwerkborrel zijn voorzien\, de optionele lunch kost €14\,50 en moet zelf betaald worden. Mocht je jezelf willen aanmelden voor de optionele lunch\, laat het ons weten door een mail te sturen naar collectievekracht@rsm.nl \n 
URL:https://citydealimpactondernemen.nl/event/burgercollectieven-en-overheid-genoeg-geexperimenteerd/
LOCATION:Parktheater Eindhoven
ATTACH;FMTTYPE=image/jpeg:https://citydealimpactondernemen.nl/wp-content/uploads/2023/05/https-cdn.evbuc_.com-images-490893729-1211812671643-1-original.20230412-141229.jpeg
END:VEVENT
BEGIN:VEVENT
DTSTART;TZID=Europe/Amsterdam:20230620T140000
DTEND;TZID=Europe/Amsterdam:20230620T180000
DTSTAMP:20260420T085238
CREATED:20230530T132614Z
LAST-MODIFIED:20230530T132644Z
UID:1352-1687269600-1687284000@citydealimpactondernemen.nl
SUMMARY:Inspiratiesessie City Deal Impact Ondernemen
DESCRIPTION:Op 20 juni gaan de partners van de City Deal Impact Ondernemen met elkaar om de tafel over de verlenging van de City Deal. Voor meer informatie zie de persoonlijke uitnodiging in de mail of mail naar liza.groot@minbzk.nl.
URL:https://citydealimpactondernemen.nl/event/inspiratiesessie-city-deal-impact-ondernemen/
LOCATION:Boothstraat 7\, 3512 BT Utrecht
ATTACH;FMTTYPE=image/png:https://citydealimpactondernemen.nl/wp-content/uploads/2023/05/logo-1.png
END:VEVENT
BEGIN:VEVENT
DTSTART;TZID=Europe/Amsterdam:20230622T141500
DTEND;TZID=Europe/Amsterdam:20230622T193000
DTSTAMP:20260420T085238
CREATED:20230530T131949Z
LAST-MODIFIED:20230530T132007Z
UID:1347-1687443300-1687462200@citydealimpactondernemen.nl
SUMMARY:Van potjes naar permanent: hoe kunnen we bewonersbedrijven duurzaam financieren?
DESCRIPTION:Van potjes naar permanent: hoe kunnen we bewonersbedrijven duurzaam financieren? Bijeenkomst voor beleidsmakers op 22 juni! 🗓️ \nBewonersbedrijven en gemeenten vinden elkaar steeds meer als partners in het aanpakken van maatschappelijke vraagstukken. Gemeenten zien de kracht van bewonersbedrijven\, waarderen de hands-on mentaliteit en zijn enthousiast over de doelgerichte aanpak. \nTegelijk staan gemeenten voor de uitdaging hoe ze dit initiatief op een duurzame manier financieel kunnen ondersteunen. En bewonersbedrijven voelen dat ze nog te veel moeten ‘sprokkelen’ in subsidielandschap. Beide partijen willen een stap voorwaarts: de tijdelijkheid van subsidiepotjes achter zich laten en zoeken naar meer structurele vormen van financiering van de maatschappelijke impact die bewonersbedrijven maken. \nOp 22 juni organiseren LSA bewoners en Social Enterprise NL in Leeuwarden een bijeenkomst waarbij duurzame financiering centraal staat. Ze verzamelen een drietal best practices uit stad en dorp. Drie verschillende manieren waarop gewerkt wordt aan financiële ondersteuning vanuit de gemeente aan het initiatief. Na elke bijdrage wordt een open gesprek gevoerd. Wat zijn factoren die een bepaalde aanpak laten werken en zijn ze repliceerbaar naar een andere gemeenten? \nLSA bewoners en Social Enterprise NL  moedigen ambtenaren aan om samen naar de bijeenkomst te komen met initiatiefnemers waar mee samengewerkt wordt. Kijk hier voor meer informatie en aanmelden: https://lnkd.in/e_VYfASX
URL:https://citydealimpactondernemen.nl/event/1347/
LOCATION:Wijkcentrum Bilgaard\, De Hooidollen 17\, 8918 HV Leeuwarden
ATTACH;FMTTYPE=image/jpeg:https://citydealimpactondernemen.nl/wp-content/uploads/2023/05/1684765581914.jpeg
END:VEVENT
BEGIN:VEVENT
DTSTART;TZID=Europe/Amsterdam:20230627T140000
DTEND;TZID=Europe/Amsterdam:20230627T180000
DTSTAMP:20260420T085238
CREATED:20230615T082907Z
LAST-MODIFIED:20230615T082907Z
UID:1380-1687874400-1687888800@citydealimpactondernemen.nl
SUMMARY:Seminar All-in programma Social Enterprise NL & SER
DESCRIPTION:Social Enterprise NL is met ondersteuning van google.org het All-in programma gestart\, met het doel om sociaal ondernemers met een migratieachtergrond betere toegang te geven tot financiering\, netwerk\, kennis en vaardigheden die ze verdienen. Op 27 juni organiseren ze daarom het All-in seminar. Social Enterprise NL presenteert in de raadzaal van de SER de resultaten van ons onderzoek en bieden financiers\, netwerken\, overheden en incubators nieuwe inzichten en handvatten zodat we samen zorgen voor een inclusieve social enterprise beweging. \nWelkom: door Mohammed Azzouz (Raad van Toezicht Social Enterprise NL en Pharos) \nKeynote: door Ruben Brave (Dutch New Narrative Lab) \nPresentatie onderzoek All-in: door Social Enterprise NL \nBreakouts en gesprekken: met o. a. Ellen Brudet (Colourful Goodies)\,\nDarine el Houfi (Leren voor de Toekomst) en Shadi Alhakimi (Taaly)
URL:https://citydealimpactondernemen.nl/event/seminar-all-in-programma-social-enterprise-nl-ser/
LOCATION:Bezuidenhoutseweg 60 in Den Haag (Raadszaal SER) met als dagvoorzitter Hanane Abaydi
ATTACH;FMTTYPE=image/png:https://citydealimpactondernemen.nl/wp-content/uploads/2023/06/Asset_14.png
END:VEVENT
BEGIN:VEVENT
DTSTART;TZID=Europe/Amsterdam:20230628T143000
DTEND;TZID=Europe/Amsterdam:20230628T180000
DTSTAMP:20260420T085238
CREATED:20230622T080915Z
LAST-MODIFIED:20230622T080915Z
UID:1399-1687962600-1687975200@citydealimpactondernemen.nl
SUMMARY:Laatste bakkie business van het jaar - Stichting VoorGoed
DESCRIPTION:Het laatste Bakkie voor de zomer komt er aan en dit keer is het een Bakkie Business. Impact ondernemen bestaat uit twee elementen\, impact maken en commercieel ondernemen. Deze twee elementen hebben elkaar nodig om te leiden tot succes. Dit stelt je instaat om je impact bedrijf te verduurzamen en de impact te vergroten. \nDaarom duiken de deelnemers tijdens dit bakkie diep in deze commerciële materie. Welke bedrijfsmodellen zijn er? Hoe ga je aan de slag met je sales? Hoe in incorporeer je dit in je impact onderneming? \nDit Bakkie Impact zal plaats vinden bij Oase van 15:00 tot 17:00. Op deze duurzame ontmoetingsplaats zullen we het hebben over de dynamiek tussen impact en commercie. Meer informatie over het programma volgt. \nInloop: 14:30 \nAanvang programma:15:00 \nEinde programma en begin borrel: 17:00 \nEinde borrel: 18:00
URL:https://citydealimpactondernemen.nl/event/laatste-bakkie-business-van-het-jaar-stichting-voorgoed/
LOCATION:OASE Schiehaven 15a 3024EC Rotterdam
ATTACH;FMTTYPE=image/jpeg:https://citydealimpactondernemen.nl/wp-content/uploads/2023/06/https-cdn.evbuc_.com-images-526911919-299482532089-1-original.20230601-114646.jpeg
END:VEVENT
BEGIN:VEVENT
DTSTART;TZID=Europe/Amsterdam:20230629T100000
DTEND;TZID=Europe/Amsterdam:20230629T150000
DTSTAMP:20260420T085238
CREATED:20230417T094545Z
LAST-MODIFIED:20230515T142918Z
UID:1215-1688032800-1688050800@citydealimpactondernemen.nl
SUMMARY:Congres: Samenwerken voor een inclusieve arbeidsmarkt
DESCRIPTION:Samenwerken voor een inclusieve arbeidsmarkt. \nOp 29 juni 2023 presenteert het lectoraat Organiseren van Waardig Werk het congres ‘Samenwerken voor een inclusieve arbeidsmarkt’. Dit congres is het eindevenement van het praktijkgericht onderzoek ‘Meer impact door samenwerking’ (2021-2023). \nOndernemingen werkten samen met als doel om zowel economische als maatschappelijke meerwaarde te creëren voor kwetsbare groepen op de arbeidsmarkt. Onderzoekers onderzochten hoe. Tijdens dit congres delen de ondernemers en onderzoekers inzichten uit het praktijkgericht onderzoek.   Ondernemingen werkten samen met als doel om economische en maatschappelijke meerwaarde te creëren voor kwetsbare groepen op de arbeidsmarkt. Onderzoekers onderzochten hoe. Hier delen ondernemers en onderzoekers inzichten uit dit praktijkgericht onderzoek. \nDit congres vormt de afsluiting van het tweejarig praktijkgericht onderzoek “Meer impact door samenwerking”\, gerealiseerd met subsidie van SIA-RAAK\, en wordt aangeboden door Hogeschool Utrecht en Hogeschool Windesheim\, in samenwerking met zestien deelnemende ondernemingen die actief zijn op het gebied van arbeidsparticipatie voor kwetsbare groepen. \nKijk hier voor meer informatie. \nZet deze datum alvast in je agenda en meld hier of je uitgenodigd wil worden.
URL:https://citydealimpactondernemen.nl/event/congres-samenwerken-voor-een-inclusieve-arbeidsmarkt/
LOCATION:Kanaal 30\, Kanaalweg 30 Utrecht
ATTACH;FMTTYPE=image/webp:https://citydealimpactondernemen.nl/wp-content/uploads/2023/04/https-www.hu_.nl-media-hu-afbeeldingen-onderzoek-projecten-hrm.ashx_.webp
END:VEVENT
END:VCALENDAR