BEGIN:VCALENDAR
VERSION:2.0
PRODID:-//City Deal Impact Ondernemen - ECPv6.15.20//NONSGML v1.0//EN
CALSCALE:GREGORIAN
METHOD:PUBLISH
X-WR-CALNAME:City Deal Impact Ondernemen
X-ORIGINAL-URL:https://citydealimpactondernemen.nl
X-WR-CALDESC:Evenementen voor City Deal Impact Ondernemen
REFRESH-INTERVAL;VALUE=DURATION:PT1H
X-Robots-Tag:noindex
X-PUBLISHED-TTL:PT1H
BEGIN:VTIMEZONE
TZID:Europe/Amsterdam
BEGIN:DAYLIGHT
TZOFFSETFROM:+0100
TZOFFSETTO:+0200
TZNAME:CEST
DTSTART:20230326T010000
END:DAYLIGHT
BEGIN:STANDARD
TZOFFSETFROM:+0200
TZOFFSETTO:+0100
TZNAME:CET
DTSTART:20231029T010000
END:STANDARD
BEGIN:DAYLIGHT
TZOFFSETFROM:+0100
TZOFFSETTO:+0200
TZNAME:CEST
DTSTART:20240331T010000
END:DAYLIGHT
BEGIN:STANDARD
TZOFFSETFROM:+0200
TZOFFSETTO:+0100
TZNAME:CET
DTSTART:20241027T010000
END:STANDARD
BEGIN:DAYLIGHT
TZOFFSETFROM:+0100
TZOFFSETTO:+0200
TZNAME:CEST
DTSTART:20250330T010000
END:DAYLIGHT
BEGIN:STANDARD
TZOFFSETFROM:+0200
TZOFFSETTO:+0100
TZNAME:CET
DTSTART:20251026T010000
END:STANDARD
END:VTIMEZONE
BEGIN:VEVENT
DTSTART;TZID=Europe/Amsterdam:20240206T090000
DTEND;TZID=Europe/Amsterdam:20240206T100000
DTSTAMP:20260419T183537
CREATED:20240131T115412Z
LAST-MODIFIED:20240131T115412Z
UID:1767-1707210000-1707213600@citydealimpactondernemen.nl
SUMMARY:Impact Dinsdag
DESCRIPTION:De impact dinsdag is een online bijeenkomst voor alle partners van de City Deal. Tijdens deze bijeenkomst geeft de organisatie van de deal een update over de stand van zaken\, maar daarnaast is er vooral ruimte voor partners uit de deal om zelf te delen. Je kunt over allerlei zaken delen. Dit mag een initiatief zijn dat pas is gestart of waarbij je betrokken bent\, een rapport dat pas is uitgekomen\, maar ook een oproep voor bepaald onderzoek etc. Het kan ook zijn dat je een bepaald gevoel wilt delen of een mening. Dit kan allemaal op de ‘zeepkist’. \nDeze impact dinsdag staat Petra van Oden (Hanze) met haar onderzoek naar het ZoWerktHet-project van VanHulley en presenteert Egon van Wees (Gemeente Amsterdam) de Opgaveagenda Innovatie & Impact Ecosystemen. \nWil je een uitnodiging ontvangen? Mail naar liza.degroot@platform31.nl
URL:https://citydealimpactondernemen.nl/event/impact-dinsdag-2/
LOCATION:online via teams
ATTACH;FMTTYPE=image/png:https://citydealimpactondernemen.nl/wp-content/uploads/2024/01/Schermafbeelding-2024-01-31-125332.png
END:VEVENT
BEGIN:VEVENT
DTSTART;TZID=Europe/Amsterdam:20240208T143000
DTEND;TZID=Europe/Amsterdam:20240208T170000
DTSTAMP:20260419T183537
CREATED:20240116T160659Z
LAST-MODIFIED:20240116T160659Z
UID:1722-1707402600-1707411600@citydealimpactondernemen.nl
SUMMARY:VoorGoed: Bakkie Impact Waardegedreven werken
DESCRIPTION:Ontdek jouw kernwaarden en hoe je hiermee impact kunt maken tijdensBakkie Impact: Waardegedreven werken op 8 februari  \n\n\n\nHet eerste Bakkie Impact van 2024 is op de bijzondere locatie Floating Farm. De eerste drijvende boerderij ter wereld. Een bijzondere plek\, niet alleen in de wereld maar ook in Rotterdam. Dierenwelzijn\, circulariteit en duurzaamheid staan hier centraal. Dit doen ze door gezond voedsel te produceren\, zeer lokaal in de stad\, dichtbij de consument. Transfarmation\, zoals ze het zelf noemen.Tijdens dit Bakkie gaan we samen met Robert-Jan van Leeuwen (o.a. van marketingcommunicatiebureau 0to9) aan de slag met waardegedreven werken. Zo leer je hoe je dicht bij jouw kernwaarden en drijfveren blijft om impact te maken.Een inspirerende start. Of je nu in een bedrijf werkt of er eigenaar van bent\, bij een stichting\, initiatief of overheid werkt\, van waardegedreven werken worden we allemaal gelukkiger.Meld je aan via Eventbrite\, dit wil je niet missen!\n\nAanmeldlink:\nhttps://www.eventbrite.nl/e/tickets-bakkie-impact-waardegedreven-werken-799349825847\n📅Datum: donderdag 8 februari 2023⏰Tijd: 14:30 – 17:00 (aansluitende borrel op locatie)🏡Locatie: Floating Farm
URL:https://citydealimpactondernemen.nl/event/voorgoed-bakkie-impact-waardegedreven-werken/
LOCATION:Floating Farm  10 Gustoweg 3029 AS Rotterdam
ATTACH;FMTTYPE=image/png:https://citydealimpactondernemen.nl/wp-content/uploads/2024/01/BAKKIE-IMPACT-waardegedreven-werken-08-02-2024-2.png
END:VEVENT
BEGIN:VEVENT
DTSTART;VALUE=DATE:20240212
DTEND;VALUE=DATE:20240214
DTSTAMP:20260419T183537
CREATED:20240115T131906Z
LAST-MODIFIED:20240115T131906Z
UID:1715-1707696000-1707868799@citydealimpactondernemen.nl
SUMMARY:Europese meeting Sociale Economie in Luik
DESCRIPTION:De Europese meeting Sociale Economie vindt plaats op 12 en 13 februari 2024 in Luik.\nDe 2 dagen\, gewijd aan inclusieve\, groene en digitale transitie\, zijn de ideale ontmoetingsplaats voor terreinactoren\, wetenschappers\, beleidsmakers en andere belanghebbenden. \n\n\n\n\n\n\n\n\n\n\n\n\n\n\n\n\n\n\n\n\n\n\n\n\nDe Vlaamse sociale economie is er een om trots op te zijn. Het EU-voorzitterschap is dan ook hét moment om ons moderne\, dynamische\, inclusieve\, tolerante en duurzame werk te laten zien en om ons te laten inspireren door wat er binnen de sociale economie in de rest van de Europese Unie allemaal beweegt. \nHet Departement Werk en Sociale Economie maakt er samen met de collega’s van de Waalse en Brusselse administraties graag een conferentie voor en door onze sociale-economiesector van. \n\n\n\n\n\n\n\n\n\n\nProgramma\nHet programma en de line-up bevatten: \n\nplenaire sessies\nworkshops\nronde tafelgesprekken\nbezoeken aan sociale economie bedrijven in Luik en Vlaanderen\neen standenmarkt\, ofwel het ‘Sociale Economie dorp’\, overzichtelijk onderverdeeld in de drie transities\nverschillende netwerkmogelijkheden en een afterwork drink\n\nMeer informatie vind je op socialeconomy2024.eu.
URL:https://citydealimpactondernemen.nl/event/europese-meeting-sociale-economie-in-luik/
LOCATION:Palais des Congrès de Luik\, Espl. de l’Europe 2\, BE-4020 Luik
ATTACH;FMTTYPE=image/webp:https://citydealimpactondernemen.nl/wp-content/uploads/2024/01/post_rs-nl_vfinale.png.webp
END:VEVENT
BEGIN:VEVENT
DTSTART;TZID=Europe/Amsterdam:20240215T173000
DTEND;TZID=Europe/Amsterdam:20240215T193000
DTSTAMP:20260419T183537
CREATED:20240131T114711Z
LAST-MODIFIED:20240131T114711Z
UID:1764-1708018200-1708025400@citydealimpactondernemen.nl
SUMMARY:Stadsgarage Infosessie 15 februari: Wat betekent de CSRD voor jouw bedrijf?
DESCRIPTION:Infosessie 15 februari: Wat betekent de CSRD voor jouw bedrijf?\n18-01-2024\n\n\n\n\n\n\n\n\n\n\n\n\n\n\n\n\n\nGrote bedrijven zijn vol aan de slag met het maken\, meten en rapporteren van maatschappelijke impact. Zeker nu de Corporate Sustainability Reporting Directive (CSRD) van de EU is ingegaan. Maar wat als je een zzp’er of mkb’er bent? Wat wordt er van je verwacht? Hoe kun jij aan de slag met maatschappelijke impact? En wat zijn de eerste logische stappen? \nLaat je bijpraten en praat mee op 15 februari bij de bijeenkomst van Sparkz Networking i.s.m. Stadsgarage / Kennemer Impact in het Seinwezen. Spreker Kirsten Ottens heeft meer dan 20 jaar ervaring in Maatschappelijk Verantwoord Ondernemen. Als Impact Expert werkt ze zowel met grote bedrijven\, MKB en sociaal ondernemers. Op 15 februari neemt zij je mee in hoe je jouw onderneming ook op het gebied van duurzaamheid verder toekomstbestendig kunt maken. \nNa de informatiesessie is er een netwerkborrel & hapjes. De bijeenkomst vindt plaats van 17.30u tot circa 19.30u in het Seinwezen in Haarlem. \nPraktische informatie: \n\nAanvang: 17.30 uur (tot ca 19.30 uur)\nLocatie: Het Seinwezen\, Haarlem (Kinderhuissingel 1H\, 2013 AS Haarlem)\nTickets: €25\,- p.p.\nMeer informatie en aanmelden: Sparkz Networking Kennemerland
URL:https://citydealimpactondernemen.nl/event/stadsgarage-infosessie-15-februari-wat-betekent-de-csrd-voor-jouw-bedrijf/
ATTACH;FMTTYPE=image/webp:https://citydealimpactondernemen.nl/wp-content/uploads/2024/01/CSRD-Sparkz-Kennemer-Impact.webp
END:VEVENT
END:VCALENDAR